BEGIN:VCALENDAR
VERSION:2.0
PRODID:-//Riichi Reporter - ECPv6.15.20//NONSGML v1.0//EN
CALSCALE:GREGORIAN
METHOD:PUBLISH
X-WR-CALNAME:Riichi Reporter
X-ORIGINAL-URL:https://riichireporter.com
X-WR-CALDESC:Events for Riichi Reporter
REFRESH-INTERVAL;VALUE=DURATION:PT1H
X-Robots-Tag:noindex
X-PUBLISHED-TTL:PT1H
BEGIN:VTIMEZONE
TZID:America/Chicago
BEGIN:DAYLIGHT
TZOFFSETFROM:-0600
TZOFFSETTO:-0500
TZNAME:CDT
DTSTART:20180311T080000
END:DAYLIGHT
BEGIN:STANDARD
TZOFFSETFROM:-0500
TZOFFSETTO:-0600
TZNAME:CST
DTSTART:20181104T070000
END:STANDARD
BEGIN:DAYLIGHT
TZOFFSETFROM:-0600
TZOFFSETTO:-0500
TZNAME:CDT
DTSTART:20190310T080000
END:DAYLIGHT
BEGIN:STANDARD
TZOFFSETFROM:-0500
TZOFFSETTO:-0600
TZNAME:CST
DTSTART:20191103T070000
END:STANDARD
BEGIN:DAYLIGHT
TZOFFSETFROM:-0600
TZOFFSETTO:-0500
TZNAME:CDT
DTSTART:20200308T080000
END:DAYLIGHT
BEGIN:STANDARD
TZOFFSETFROM:-0500
TZOFFSETTO:-0600
TZNAME:CST
DTSTART:20201101T070000
END:STANDARD
END:VTIMEZONE
BEGIN:VTIMEZONE
TZID:America/New_York
BEGIN:DAYLIGHT
TZOFFSETFROM:-0500
TZOFFSETTO:-0400
TZNAME:EDT
DTSTART:20170312T070000
END:DAYLIGHT
BEGIN:STANDARD
TZOFFSETFROM:-0400
TZOFFSETTO:-0500
TZNAME:EST
DTSTART:20171105T060000
END:STANDARD
BEGIN:DAYLIGHT
TZOFFSETFROM:-0500
TZOFFSETTO:-0400
TZNAME:EDT
DTSTART:20180311T070000
END:DAYLIGHT
BEGIN:STANDARD
TZOFFSETFROM:-0400
TZOFFSETTO:-0500
TZNAME:EST
DTSTART:20181104T060000
END:STANDARD
BEGIN:DAYLIGHT
TZOFFSETFROM:-0500
TZOFFSETTO:-0400
TZNAME:EDT
DTSTART:20190310T070000
END:DAYLIGHT
BEGIN:STANDARD
TZOFFSETFROM:-0400
TZOFFSETTO:-0500
TZNAME:EST
DTSTART:20191103T060000
END:STANDARD
BEGIN:DAYLIGHT
TZOFFSETFROM:-0500
TZOFFSETTO:-0400
TZNAME:EDT
DTSTART:20200308T070000
END:DAYLIGHT
BEGIN:STANDARD
TZOFFSETFROM:-0400
TZOFFSETTO:-0500
TZNAME:EST
DTSTART:20201101T060000
END:STANDARD
END:VTIMEZONE
BEGIN:VTIMEZONE
TZID:UTC
BEGIN:STANDARD
TZOFFSETFROM:+0000
TZOFFSETTO:+0000
TZNAME:UTC
DTSTART:20170101T000000
END:STANDARD
END:VTIMEZONE
BEGIN:VEVENT
DTSTART;TZID=America/Chicago:20190706T060000
DTEND;TZID=America/Chicago:20190706T120000
DTSTAMP:20260424T205310
CREATED:20190625T123327Z
LAST-MODIFIED:20200706T114830Z
UID:1937-1562392800-1562414400@riichireporter.com
SUMMARY:2019 Team Online Riichi Championship (1st Round & QF)
DESCRIPTION:The Competitive Riichi Hub and mahjong.guide are proud to present the 2019 Team Online Riichi Championship! \nThis date is for the 1st Round and Quarter Finals only! Semi-finals and Finals will take place on Saturday 13th July! Jump to Date >> \nSee website for event information. \nDasuke and Gemma will be streaming live commentary – check back for stream link.
URL:https://riichireporter.com/event/2019-team-online-riichi-championship-1st-round-qf/
CATEGORIES:Tournament
ATTACH;FMTTYPE=image/png:https://riichireporter.com/wp-content/uploads/sites/11/2019/06/Championship-Tournament-Logo.png
END:VEVENT
BEGIN:VEVENT
DTSTART;VALUE=DATE:20190627
DTEND;VALUE=DATE:20190630
DTSTAMP:20260424T205310
CREATED:20190514T171605Z
LAST-MODIFIED:20200706T114829Z
UID:1734-1561593600-1561852799@riichireporter.com
SUMMARY:WRC Qualifier - Salt Lake Gaming Con
DESCRIPTION:  \nJoin us at the Salt Lake Gaming Convention for the first step on the road to WRC 2020: Vienna. The top ranked players at this qualifying event will be the first in North America to earn the right to compete at the next World Riichi Championship! \nRegistration is now open\, select the “World Riichi Championship” ticket type to enter! \nRegistration Details\nThis qualifier is an Open\, all players are welcome to subscribe! \nTournament entry includes: \nOne (1) Salt Lake Gaming Con attendee badge\nEntry into the qualifier \nPlease note that you do NOT have to purchase a convention badge separately – if you’ve registered for this event\, you have a badge! \nThe number of qualifications to be awarded will be proportional to attendance. Players awarded a qualification will remain responsible for travel and entry costs for WRC 2020.
URL:https://riichireporter.com/event/wrc-qualifier-salt-lake-gaming-con/
CATEGORIES:Tournament
ATTACH;FMTTYPE=image/png:https://riichireporter.com/wp-content/uploads/sites/11/2019/04/SaltLakeCon-e1556130613274.png
END:VEVENT
BEGIN:VEVENT
DTSTART;TZID=America/Chicago:20190603T080000
DTEND;TZID=America/Chicago:20190603T170000
DTSTAMP:20260424T205310
CREATED:20190603T195618Z
LAST-MODIFIED:20200706T114829Z
UID:1816-1559548800-1559581200@riichireporter.com
SUMMARY:Doragon no Taikai II
DESCRIPTION:2nd Annual Riichi Mahjong Tournament. Located at Casual Dragon Games in Lockport\, NY. The tournament will be a two day event. \nSchedule \nSaturday – Be there at 10AM! \nTournament Start – 11 am \nHanchan 1 – 11:30 am \nHanchan 2 – 1:30 pm \nLunch Break– 3:30 pm \nHanchan 3 – 5 pm \nHanchan 4 – 7 pm \nSunday – Be there at 10AM! \nTournament Start – 11 am \nHanchan 5 – 11:30 am \nHanchan 6 – 1:30 pm \nAwards and Prizes – 4 pm
URL:https://riichireporter.com/event/doragon-no-taikai-ii/
CATEGORIES:Tournament
END:VEVENT
BEGIN:VEVENT
DTSTART;VALUE=DATE:20190406
DTEND;VALUE=DATE:20190408
DTSTAMP:20260424T205310
CREATED:20181128T130155Z
LAST-MODIFIED:20200706T114827Z
UID:807-1554508800-1554681599@riichireporter.com
SUMMARY:Tornado Alley Regional Open
DESCRIPTION:DFW Mahjong and Oklahoma Mahjong are teaming up this year for a riichi regional open. \nRegistration is open (Closes March 24\, 2019) \nThere is also a meetup Saturday night at Xtreme Racing for kart racing!
URL:https://riichireporter.com/event/tornado-alley-regional-open/
LOCATION:Stoney Creek Hotel & Conference Center\, 200 W Albany St\, Broken Arrow\, 74012\, United States
CATEGORIES:Tournament
END:VEVENT
BEGIN:VEVENT
DTSTART;VALUE=DATE:20190316
DTEND;VALUE=DATE:20190318
DTSTAMP:20260424T205310
CREATED:20190114T101500Z
LAST-MODIFIED:20200706T114828Z
UID:1024-1552694400-1552867199@riichireporter.com
SUMMARY:2019 Rochester Riichi Open
DESCRIPTION:
URL:https://riichireporter.com/event/2019-rochester-riichi-open/
LOCATION:Rochester Institute of Technology\, Rochester\, NY\, 14623\, United States
CATEGORIES:Tournament
END:VEVENT
BEGIN:VEVENT
DTSTART;VALUE=DATE:20181117
DTEND;VALUE=DATE:20181118
DTSTAMP:20260424T205310
CREATED:20181026T084758Z
LAST-MODIFIED:20200706T114827Z
UID:655-1542412800-1542499199@riichireporter.com
SUMMARY:International Online Riichi Mahjong Championship (Individual)
DESCRIPTION:The IORMC is the International Online Riichi Mahjong Championships. Originally held in 2011 as an exchange between South Korea and Japan\, it has now expanded to 16 countries from all around the world. This event is hosted on Tenhou. \nThis is the individual event. Players are selected as the top 16 players from the team event held on Nov. 3\, 2018.
URL:https://riichireporter.com/event/international-online-riichi-mahjong-championship-individual/
ATTACH;FMTTYPE=image/jpeg:https://riichireporter.com/wp-content/uploads/sites/11/2018/09/2018_IORMC_small.jpg
END:VEVENT
BEGIN:VEVENT
DTSTART;VALUE=DATE:20181103
DTEND;VALUE=DATE:20181104
DTSTAMP:20260424T205310
CREATED:20181026T084534Z
LAST-MODIFIED:20200706T114827Z
UID:653-1541203200-1541289599@riichireporter.com
SUMMARY:International Online Riichi Mahjong Championship (Team)
DESCRIPTION:The IORMC is the International Online Riichi Mahjong Championships. Originally held in 2011 as an exchange between South Korea and Japan\, it has now expanded to 16 countries from all around the world. This event is hosted on Tenhou. \nThis is the Team event date – the individual event takes place on Nov. 17\, 2018.
URL:https://riichireporter.com/event/international-online-riichi-mahjong-championship-team/
ATTACH;FMTTYPE=image/jpeg:https://riichireporter.com/wp-content/uploads/sites/11/2018/09/2018_IORMC_small.jpg
END:VEVENT
BEGIN:VEVENT
DTSTART;VALUE=DATE:20181013
DTEND;VALUE=DATE:20181015
DTSTAMP:20260424T205310
CREATED:20180903T185225Z
LAST-MODIFIED:20200706T114826Z
UID:62-1539388800-1539561599@riichireporter.com
SUMMARY:North American Open (NARMA)
DESCRIPTION:
URL:https://riichireporter.com/event/north-american-open-narma/
LOCATION:The Down Town Association\, 60 Pine St\, New york\, 10005\, United States
END:VEVENT
END:VCALENDAR